BEGIN:VCALENDAR
VERSION:2.0
PRODID:-//Aics-sr.com - ECPv6.15.20//NONSGML v1.0//EN
CALSCALE:GREGORIAN
METHOD:PUBLISH
X-ORIGINAL-URL:https://aics-sr.com
X-WR-CALDESC:Évènements pour Aics-sr.com
REFRESH-INTERVAL;VALUE=DURATION:PT1H
X-Robots-Tag:noindex
X-PUBLISHED-TTL:PT1H
BEGIN:VTIMEZONE
TZID:Europe/Helsinki
BEGIN:DAYLIGHT
TZOFFSETFROM:+0200
TZOFFSETTO:+0300
TZNAME:EEST
DTSTART:20220327T010000
END:DAYLIGHT
BEGIN:STANDARD
TZOFFSETFROM:+0300
TZOFFSETTO:+0200
TZNAME:EET
DTSTART:20221030T010000
END:STANDARD
BEGIN:DAYLIGHT
TZOFFSETFROM:+0200
TZOFFSETTO:+0300
TZNAME:EEST
DTSTART:20230326T010000
END:DAYLIGHT
BEGIN:STANDARD
TZOFFSETFROM:+0300
TZOFFSETTO:+0200
TZNAME:EET
DTSTART:20231029T010000
END:STANDARD
BEGIN:DAYLIGHT
TZOFFSETFROM:+0200
TZOFFSETTO:+0300
TZNAME:EEST
DTSTART:20240331T010000
END:DAYLIGHT
BEGIN:STANDARD
TZOFFSETFROM:+0300
TZOFFSETTO:+0200
TZNAME:EET
DTSTART:20241027T010000
END:STANDARD
END:VTIMEZONE
BEGIN:VEVENT
DTSTART;TZID=Europe/Helsinki:20231206T090000
DTEND;TZID=Europe/Helsinki:20231206T123000
DTSTAMP:20260423T211434
CREATED:20230628T083702Z
LAST-MODIFIED:20230628T084716Z
UID:663-1701853200-1701865800@aics-sr.com
SUMMARY:Conférence du 6 Décembre 2023 Mairie de Tours sur le Thème " Citoyenneté et Esprit de défense'
DESCRIPTION:   \nMadame\, Monsieur\, \nDepuis 2015\, la Délégation 37 de la Fondation de la France Libre organise des Conférences nationales gratuites destinées à promouvoir la Citoyenneté chez nos jeunes collégiens et lycéens. \nDans ce contexte et compte tenu des évènements internationaux en cours\, il a été décidé de retenir pour le thème de la Conférence 2023 : \n« Citoyenneté et Esprit de défense » \nThierry TERRIER Conférencier \n \nPour ce faire\, la Délégation 37 de la Fondation de la France Libre\, en partenariat avec l’Institut des Hautes études de la Défense nationale (IHEDN) et la Section des Anciens Combattants et Sympathisants – Services de Renseignements (SAS -SR) du groupement 67 de la Fédération Nationale André Maginot\, a reçu l’appui du Trinôme Académique (Éducation Nationale\, IHEDN\, et Défense Nationale) ainsi que des autorités. \nCette Conférence se tiendra le mercredi 6 Décembre 2023 de 9h à 11 h à l’Hôtel de ville de Tours\, dans la magnifique Salle des fêtes que\, Monsieur Emmanuel Denis\, Maire de Tours\, a bien voulu mettre à notre disposition. \n  \nSi vous êtes intéressé\, envoyez un mail à Mr Yves Fournier : \nMail : fournier145@aol.com Portable : 06 12 05 71 31
URL:https://aics-sr.com/event/conference-du-6-decembre-2023-mairie-de-tours-sur-le-theme-citoyennete-et-esprit-de-defense/
LOCATION:Mairie de TOURS\, TOURS\, 37000\, France
END:VEVENT
END:VCALENDAR