BEGIN:VCALENDAR
VERSION:2.0
PRODID:-//Aics-sr.com - ECPv6.15.20//NONSGML v1.0//EN
CALSCALE:GREGORIAN
METHOD:PUBLISH
X-WR-CALNAME:Aics-sr.com
X-ORIGINAL-URL:https://aics-sr.com
X-WR-CALDESC:Évènements pour Aics-sr.com
REFRESH-INTERVAL;VALUE=DURATION:PT1H
X-Robots-Tag:noindex
X-PUBLISHED-TTL:PT1H
BEGIN:VTIMEZONE
TZID:Europe/Helsinki
BEGIN:DAYLIGHT
TZOFFSETFROM:+0200
TZOFFSETTO:+0300
TZNAME:EEST
DTSTART:20220327T010000
END:DAYLIGHT
BEGIN:STANDARD
TZOFFSETFROM:+0300
TZOFFSETTO:+0200
TZNAME:EET
DTSTART:20221030T010000
END:STANDARD
BEGIN:DAYLIGHT
TZOFFSETFROM:+0200
TZOFFSETTO:+0300
TZNAME:EEST
DTSTART:20230326T010000
END:DAYLIGHT
BEGIN:STANDARD
TZOFFSETFROM:+0300
TZOFFSETTO:+0200
TZNAME:EET
DTSTART:20231029T010000
END:STANDARD
BEGIN:DAYLIGHT
TZOFFSETFROM:+0200
TZOFFSETTO:+0300
TZNAME:EEST
DTSTART:20240331T010000
END:DAYLIGHT
BEGIN:STANDARD
TZOFFSETFROM:+0300
TZOFFSETTO:+0200
TZNAME:EET
DTSTART:20241027T010000
END:STANDARD
END:VTIMEZONE
BEGIN:VEVENT
DTSTART;TZID=Europe/Helsinki:20230808T214500
DTEND;TZID=Europe/Helsinki:20230808T234500
DTSTAMP:20260424T022321
CREATED:20230726T080216Z
LAST-MODIFIED:20230726T080845Z
UID:907-1691531100-1691538300@aics-sr.com
SUMMARY:8 AOUT 2023  21h 45: Présentation sur Arté du documentaire "La Résistance au service de Sa Majesté".
DESCRIPTION:La Résistance au service de Sa Majesté : un film d’espionnage révèle le rôle méconnu des Britanniques\nRéalisé par Cécile Coolen et co-écrit avec Olivier Wieviorka\, ce film plonge les spectateurs dans les coulisses méconnues de la Seconde Guerre mondiale.\n\nC’est lors d’une cérémonie commémorant le SOE (Le Special Operations Executive SOE\, « Direction des opérations spéciales ») est un service secret britannique qui opère pendant la Seconde Guerre mondiale. Le SOE est créé le 19- 22 juillet 1940 par Winston Churchill et dissout le 30 juin 1946)\, à Valencay\, en présence de la Princesse Anne\, que j’ai fait la connaissance de Cécile Coolen qui m’avait fait part de son projet de film sur le SOE. Nous avions convenu de nous contacter dès que son projet prendrait forme.\n\nJ’ai eu le plaisir de visionner ce film en avant-première et il est remarquable.\n\nCécile Coolen et les AICS-SR ont d’un commun accord décidé après sa première projection\, de le présenter dans les établissements scolaires qui le souhaiteront.\nNous avons également décidé\, d’un commun accord et chaque fois que cela sera possible\, de mettre en œuvre des actions  au profit de la transmission de la mémoire.\nNous adressons tous nos remerciements à Cécile Coolen  pour cette réalisation et de nous permettre de construire ensemble ce partenariat;\n\nYves Fournier\nPrésident AICS-SR\n\nLien du documentaire :
URL:https://aics-sr.com/event/8-aout-2023-21h-45-presentation-sur-arte-du-documentaire-la-resistance-au-service-de-sa-majeste/
ATTACH;FMTTYPE=image/jpeg:https://aics-sr.com/wp-content/uploads/2023/07/resistance.jpg
END:VEVENT
END:VCALENDAR