BEGIN:VCALENDAR
VERSION:2.0
PRODID:-//Aics-sr.com - ECPv6.15.20//NONSGML v1.0//EN
CALSCALE:GREGORIAN
METHOD:PUBLISH
X-ORIGINAL-URL:https://aics-sr.com
X-WR-CALDESC:Évènements pour Aics-sr.com
REFRESH-INTERVAL;VALUE=DURATION:PT1H
X-Robots-Tag:noindex
X-PUBLISHED-TTL:PT1H
BEGIN:VTIMEZONE
TZID:Europe/Helsinki
BEGIN:DAYLIGHT
TZOFFSETFROM:+0200
TZOFFSETTO:+0300
TZNAME:EEST
DTSTART:20230326T010000
END:DAYLIGHT
BEGIN:STANDARD
TZOFFSETFROM:+0300
TZOFFSETTO:+0200
TZNAME:EET
DTSTART:20231029T010000
END:STANDARD
BEGIN:DAYLIGHT
TZOFFSETFROM:+0200
TZOFFSETTO:+0300
TZNAME:EEST
DTSTART:20240331T010000
END:DAYLIGHT
BEGIN:STANDARD
TZOFFSETFROM:+0300
TZOFFSETTO:+0200
TZNAME:EET
DTSTART:20241027T010000
END:STANDARD
BEGIN:DAYLIGHT
TZOFFSETFROM:+0200
TZOFFSETTO:+0300
TZNAME:EEST
DTSTART:20250330T010000
END:DAYLIGHT
BEGIN:STANDARD
TZOFFSETFROM:+0300
TZOFFSETTO:+0200
TZNAME:EET
DTSTART:20251026T010000
END:STANDARD
END:VTIMEZONE
BEGIN:VEVENT
DTSTART;TZID=Europe/Helsinki:20240926T090000
DTEND;TZID=Europe/Helsinki:20240926T130000
DTSTAMP:20260424T161052
CREATED:20240903T102845Z
LAST-MODIFIED:20240903T102845Z
UID:2695-1727341200-1727355600@aics-sr.com
SUMMARY:26 SEPTEMBRE 2024: CONFERENCE  A CAVALAIRE SUR MER SUR LE THEME " CITOYENNETE ET ESPRIT DE DEFENSE"
DESCRIPTION:
URL:https://aics-sr.com/event/26-septembre-2024-conference-a-cavalaire-sur-mer-sur-le-theme-citoyennete-et-esprit-de-defense/
LOCATION:CAVALAIRE SUR MER
END:VEVENT
END:VCALENDAR